Workbook

Sheet Opstart
A1: Dag | B1: Ammonia | C1: Nitriet | D1: Nitraat | E1: Opmerkingen
A2: 0 | E2: Bacteriën: hele inhoud toevoegen.
E3: UVC uit.
E4: Temperatuur 28 C.
E5: Meet de Nitraatwaarde en KH
A6: 1 | E6: ="Start, "&Data!B4&" gram salmiak toevoegen per "&Data!B2&" liter aquariumwater" -> Start, 0,72 gram salmiak toevoegen per 180 liter aquariumwater
E7: Ammonia meting 1 tot 1.5 mg/ltr.
A8: 2 | E8: Ammonia meten, er zal nog geen daling te zien zijn
A9: 3 | E9: Ammonia meten:
E10: ="Minder dan 1 mg/ltr maar groter dan 0.5 mg/ltr mag er "&Data!B5&" gram salmiak toegevoegd worden." -> Minder dan 1 mg/ltr maar groter dan 0.5 mg/ltr mag er 0,31 gram salmiak toegevoegd worden.
E11: ="Minder dan 0.4 mg/ltr mag er "&Data!B4&" gram salmiak toegevoegd worden." -> Minder dan 0.4 mg/ltr mag er 0,72 gram salmiak toegevoegd worden.
A12: 4 | E12: Ammonia meten:
E13: ="Minder dan 1 mg/ltr maar groter dan 0.5 mg/ltr mag er "&Data!B5&" gram salmiak toegevoegd worden." -> Minder dan 1 mg/ltr maar groter dan 0.5 mg/ltr mag er 0,31 gram salmiak toegevoegd worden.
E14: ="Minder dan 0.4 mg/ltr mag er "&Data!B4&" gram salmiak toegevoegd worden." -> Minder dan 0.4 mg/ltr mag er 0,72 gram salmiak toegevoegd worden.
A15: 5 | E15: Ammonia meten:
E16: ="Minder dan 1 mg/ltr maar groter dan 0.5 mg/ltr mag er "&Data!B5&" gram salmiak toegevoegd worden." -> Minder dan 1 mg/ltr maar groter dan 0.5 mg/ltr mag er 0,31 gram salmiak toegevoegd worden.
E17: ="Minder dan 0.4 mg/ltr mag er "&Data!B4&" gram salmiak toegevoegd worden." -> Minder dan 0.4 mg/ltr mag er 0,72 gram salmiak toegevoegd worden.
E18: Nu ook nitriet meten, zie je nitriet stijgen dan is dat een goed teken, het ammonium wordt omgezet naar nitriet.
A19: 6 | E19: Nitriet meten. Nitriet mag niet hoger komen dan 1 mg/liter bij hoger gaan we 50% waterwissel doen. Na waterwissel en/of nitriet is minder dan 0.04 mg/liter gaan we ammonia meten:
E20: ="Ammonia minder dan 1 mg/ltr maar groter dan 0.5 mg/ltr mag er "&Data!B5&" gram salmiak toegevoegd worden." -> Ammonia minder dan 1 mg/ltr maar groter dan 0.5 mg/ltr mag er 0,31 gram salmiak toegevoegd worden.
E21: ="Minder dan 0.4 mg/ltr mag er "&Data!B4&" gram salmiak toegevoegd worden." -> Minder dan 0.4 mg/ltr mag er 0,72 gram salmiak toegevoegd worden.
A22: 7 | E22: Nitriet meten. Nitriet mag niet hoger komen dan 1 mg/liter bij hoger gaan we 50% waterwissel doen. Na waterwissel en/of nitriet is minder dan 0.04 mg/liter gaan we ammonia meten:
E23: ="Ammonia minder dan 1 mg/ltr maar groter dan 0.5 mg/ltr mag er "&Data!B5&" gram salmiak toegevoegd worden." -> Ammonia minder dan 1 mg/ltr maar groter dan 0.5 mg/ltr mag er 0,31 gram salmiak toegevoegd worden.
E24: ="Minder dan 0.4 mg/ltr mag er "&Data!B4&" gram salmiak toegevoegd worden." -> Minder dan 0.4 mg/ltr mag er 0,72 gram salmiak toegevoegd worden.
A25: 8 | E25: Nitriet meten. Nitriet mag niet hoger komen dan 1 mg/liter bij hoger gaan we 50% waterwissel doen. Na waterwissel en/of nitriet is minder dan 0.04 mg/liter gaan we ammonia meten:
E26: ="Ammonia minder dan 1 mg/ltr maar groter dan 0.5 mg/ltr mag er "&Data!B5&" gram salmiak toegevoegd worden." -> Ammonia minder dan 1 mg/ltr maar groter dan 0.5 mg/ltr mag er 0,31 gram salmiak toegevoegd worden.
E27: ="Minder dan 0.4 mg/ltr mag er "&Data!B4&" gram salmiak toegevoegd worden." -> Minder dan 0.4 mg/ltr mag er 0,72 gram salmiak toegevoegd worden.
A28: 9 | E28: Nitriet meten. Nitriet mag niet hoger komen dan 1 mg/liter bij hoger gaan we 50% waterwissel doen. Na waterwissel en/of nitriet is minder dan 0.04 mg/liter gaan we ammonia meten:
E29: ="Ammonia minder dan 1 mg/ltr maar groter dan 0.5 mg/ltr mag er "&Data!B5&" gram salmiak toegevoegd worden." -> Ammonia minder dan 1 mg/ltr maar groter dan 0.5 mg/ltr mag er 0,31 gram salmiak toegevoegd worden.
E30: ="Minder dan 0.4 mg/ltr mag er "&Data!B4&" gram salmiak toegevoegd worden." -> Minder dan 0.4 mg/ltr mag er 0,72 gram salmiak toegevoegd worden.
A31: 10 | E31: Nitriet meten. Nitriet mag niet hoger komen dan 1 mg/liter bij hoger gaan we 50% waterwissel doen. Na waterwissel en/of nitriet is minder dan 0.04 mg/liter gaan we ammonia meten:
E32: ="Ammonia minder dan 1 mg/ltr maar groter dan 0.5 mg/ltr mag er "&Data!B5&" gram salmiak toegevoegd worden." -> Ammonia minder dan 1 mg/ltr maar groter dan 0.5 mg/ltr mag er 0,31 gram salmiak toegevoegd worden.
E33: ="Minder dan 0.4 mg/ltr mag er "&Data!B4&" gram salmiak toegevoegd worden." -> Minder dan 0.4 mg/ltr mag er 0,72 gram salmiak toegevoegd worden.
A34: 11 | E34: Rustdag, ammonia en nitriet meten, geen actie, ook geen waterwissel.
E35: Meet in de avond. Vanaf deze dag gaan we kijken hoe goed het nitriet daalt.
A36: 12 | E36: Nitriet meten en kijken of er een daling komt tov dag 10.
E37: ="Is nitriet gedaald tot 0.04 mg/liter dan weer "&Data!B4&" gram salmiak toevoegen." -> Is nitriet gedaald tot 0.04 mg/liter dan weer 0,72 gram salmiak toevoegen.
E38: Is nitriet hoger dan 0.04 mg/liter mag er geen salmiak toegevoegd worden. Geen waterwissel doen, afwachten totdat nitriet daalt.
A39: 13 | E39: Nitriet meten en kijken of er een daling komt tov dag 10.
E40: ="Is nitriet gedaald tot 0.04 mg/liter dan weer "&Data!B4&" gram salmiak toevoegen." -> Is nitriet gedaald tot 0.04 mg/liter dan weer 0,72 gram salmiak toevoegen.
...

Sheet Data
A1: gram per 100 liter (startwaarde) | B1: 0.4
A2: inhoud | B2: 180
A4: startwaarde | B4: =ROUND((B1*B2/100),2) -> 0.72
A5: lage waarde | B5: =ROUND((B1*B2/233),2) -> 0.31
A6: hoge waarde | B6: =ROUND((B1*B2/72),2) -> 1
A7: super waarde | B7: =ROUND((B1*B2/51),2) -> 1.41
A9: aantal vissen | B9: =ROUND(((10*B2)/180),0) -> 10
