Workbook

Sheet Opstart
A1: Dag | B1: Ammonia | C1: Nitriet | D1: Nitraat | E1: Opmerkingen
A2: 0 | E2: Bacteriën: hele inhoud toevoegen.
E3: UVC uit.
E4: Temperatuur 28 C.
E5: Meet de Nitraatwaarde en KH
A6: 1 | E6: ="Start, "&Data!B4&" gram salmiak toevoegen per "&Data!B2&" liter aquariumwater" -> Start, 0,72 gram salmiak toevoegen per 180 liter aquariumwater
E7: Ammonia meting 1 tot 1.5 mg/ltr.
A8: 2 | E8: Ammonia meten, er zal nog geen daling te zien zijn
A9: 3 | E9: Ammonia meten:
E10: ="Minder dan 1 mg/ltr maar groter dan 0.5 mg/ltr mag er "&Data!B5&" gram salmiak toegevoegd worden." -> Minder dan 1 mg/ltr maar groter dan 0.5 mg/ltr mag er 0,31 gram salmiak toegevoegd worden.
E11: ="Minder dan 0.4 mg/ltr mag er "&Data!B4&" gram salmiak toegevoegd worden." -> Minder dan 0.4 mg/ltr mag er 0,72 gram salmiak toegevoegd worden.
A12: 4 | E12: Ammonia meten:
E13: ="Minder dan 1 mg/ltr maar groter dan 0.5 mg/ltr mag er "&Data!B5&" gram salmiak toegevoegd worden." -> Minder dan 1 mg/ltr maar groter dan 0.5 mg/ltr mag er 0,31 gram salmiak toegevoegd worden.
E14: ="Minder dan 0.4 mg/ltr mag er "&Data!B4&" gram salmiak toegevoegd worden." -> Minder dan 0.4 mg/ltr mag er 0,72 gram salmiak toegevoegd worden.
A15: 5 | E15: Ammonia meten:
E16: ="Minder dan 1 mg/ltr maar groter dan 0.5 mg/ltr mag er "&Data!B5&" gram salmiak toegevoegd worden." -> Minder dan 1 mg/ltr maar groter dan 0.5 mg/ltr mag er 0,31 gram salmiak toegevoegd worden.
E17: ="Minder dan 0.4 mg/ltr mag er "&Data!B4&" gram salmiak toegevoegd worden." -> Minder dan 0.4 mg/ltr mag er 0,72 gram salmiak toegevoegd worden.
E18: Nu ook nitriet meten, zie je nitriet stijgen dan is dat een goed teken, het ammonium wordt omgezet naar nitriet.
A19: 6 | E19: Nitriet meten. Nitriet mag niet hoger komen dan 1 mg/liter bij hoger gaan we 50% waterwissel doen. Na waterwissel en/of nitriet is minder dan 0.04 mg/liter gaan we ammonia meten:
E20: ="Ammonia minder dan 1 mg/ltr maar groter dan 0.5 mg/ltr mag er "&Data!B5&" gram salmiak toegevoegd worden." -> Ammonia minder dan 1 mg/ltr maar groter dan 0.5 mg/ltr mag er 0,31 gram salmiak toegevoegd worden.
E21: ="Minder dan 0.4 mg/ltr mag er "&Data!B4&" gram salmiak toegevoegd worden." -> Minder dan 0.4 mg/ltr mag er 0,72 gram salmiak toegevoegd worden.
A22: 7 | E22: Nitriet meten. Nitriet mag niet hoger komen dan 1 mg/liter bij hoger gaan we 50% waterwissel doen. Na waterwissel en/of nitriet is minder dan 0.04 mg/liter gaan we ammonia meten:
E23: ="Ammonia minder dan 1 mg/ltr maar groter dan 0.5 mg/ltr mag er "&Data!B5&" gram salmiak toegevoegd worden." -> Ammonia minder dan 1 mg/ltr maar groter dan 0.5 mg/ltr mag er 0,31 gram salmiak toegevoegd worden.
E24: ="Minder dan 0.4 mg/ltr mag er "&Data!B4&" gram salmiak toegevoegd worden." -> Minder dan 0.4 mg/ltr mag er 0,72 gram salmiak toegevoegd worden.
A25: 8 | E25: Nitriet meten. Nitriet mag niet hoger komen dan 1 mg/liter bij hoger gaan we 50% waterwissel doen. Na waterwissel en/of nitriet is minder dan 0.04 mg/liter gaan we ammonia meten:
E26: ="Ammonia minder dan 1 mg/ltr maar groter dan 0.5 mg/ltr mag er "&Data!B5&" gram salmiak toegevoegd worden." -> Ammonia minder dan 1 mg/ltr maar groter dan 0.5 mg/ltr mag er 0,31 gram salmiak toegevoegd worden.
E27: ="Minder dan 0.4 mg/ltr mag er "&Data!B4&" gram salmiak toegevoegd worden." -> Minder dan 0.4 mg/ltr mag er 0,72 gram salmiak toegevoegd worden.
A28: 9 | E28: Nitriet meten. Nitriet mag niet hoger komen dan 1 mg/liter bij hoger gaan we 50% waterwissel doen. Na waterwissel en/of nitriet is minder dan 0.04 mg/liter gaan we ammonia meten:
E29: ="Ammonia minder dan 1 mg/ltr maar groter dan 0.5 mg/ltr mag er "&Data!B5&" gram salmiak toegevoegd worden." -> Ammonia minder dan 1 mg/ltr maar groter dan 0.5 mg/ltr mag er 0,31 gram salmiak toegevoegd worden.
E30: ="Minder dan 0.4 mg/ltr mag er "&Data!B4&" gram salmiak toegevoegd worden." -> Minder dan 0.4 mg/ltr mag er 0,72 gram salmiak toegevoegd worden.
A31: 10 | E31: Nitriet meten. Nitriet mag niet hoger komen dan 1 mg/liter bij hoger gaan we 50% waterwissel doen. Na waterwissel en/of nitriet is minder dan 0.04 mg/liter gaan we ammonia meten:
E32: ="Ammonia minder dan 1 mg/ltr maar groter dan 0.5 mg/ltr mag er "&Data!B5&" gram salmiak toegevoegd worden." -> Ammonia minder dan 1 mg/ltr maar groter dan 0.5 mg/ltr mag er 0,31 gram salmiak toegevoegd worden.
E33: ="Minder dan 0.4 mg/ltr mag er "&Data!B4&" gram salmiak toegevoegd worden." -> Minder dan 0.4 mg/ltr mag er 0,72 gram salmiak toegevoegd worden.
A34: 11 | E34: Rustdag, ammonia en nitriet meten, geen actie, ook geen waterwissel.
E35: Meet in de avond. Vanaf deze dag gaan we kijken hoe goed het nitriet daalt.
A36: 12 | E36: Nitriet meten en kijken of er een daling komt tov dag 10.
E37: ="Is nitriet gedaald tot 0.04 mg/liter dan weer "&Data!B4&" gram salmiak toevoegen." -> Is nitriet gedaald tot 0.04 mg/liter dan weer 0,72 gram salmiak toevoegen.
E38: Is nitriet hoger dan 0.04 mg/liter mag er geen salmiak toegevoegd worden. Geen waterwissel doen, afwachten totdat nitriet daalt.
A39: 13 | E39: Nitriet meten en kijken of er een daling komt tov dag 10.
E40: ="Is nitriet gedaald tot 0.04 mg/liter dan weer "&Data!B4&" gram salmiak toevoegen." -> Is nitriet gedaald tot 0.04 mg/liter dan weer 0,72 gram salmiak toevoegen.
E41: Is nitriet hoger dan 0.04 mg/liter mag er geen salmiak toegevoegd worden. Geen waterwissel doen, afwachten totdat nitriet daalt.
A42: 14 | E42: Nitriet meten en kijken of er een daling komt tov dag 10.
E43: ="Is nitriet gedaald tot 0.04 mg/liter dan weer "&Data!B4&" gram salmiak toevoegen." -> Is nitriet gedaald tot 0.04 mg/liter dan weer 0,72 gram salmiak toevoegen.
E44: Is nitriet hoger dan 0.04 mg/liter mag er geen salmiak toegevoegd worden. Geen waterwissel doen, afwachten totdat nitriet daalt.
E45: Voeg nogmaals een flesje bacteriepreparaat toe.
A46: 15 | E46: Nitriet meten en kijken of er een daling komt tov dag 10.
E47: ="Is nitriet gedaald tot 0.04 mg/liter dan weer "&Data!B4&" gram salmiak toevoegen." -> Is nitriet gedaald tot 0.04 mg/liter dan weer 0,72 gram salmiak toevoegen.
E48: Is nitriet hoger dan 0.04 mg/liter mag er geen salmiak toegevoegd worden. Geen waterwissel doen, afwachten totdat nitriet daalt.
A49: 16 | E49: Rustdag, meet ammonia en nitriet
A50: 17 | E50: Inmiddels moet er een balans zijn dat ammonia en nitriet dalen.
E51: ="Voeg "&Data!B4&" gram salmiak in de ochtend toe en meet in de avond." -> Voeg 0,72 gram salmiak in de ochtend toe en meet in de avond.
E52: ="Is nitriet dan minder dan 0.05 mg/ltr mag er avonds weer "&Data!B4&" gram salmiak toegevoegd worden." -> Is nitriet dan minder dan 0.05 mg/ltr mag er avonds weer 0,72 gram salmiak toegevoegd worden.
E53: ="In de ochtend dag 18 weer "&Data!B4&" gram salmiak toevoegen." -> In de ochtend dag 18 weer 0,72 gram salmiak toevoegen.
A54: 18 | E54: ="Voeg "&Data!B4&" gram salmiak in de ochtend toe en meet in de avond." -> Voeg 0,72 gram salmiak in de ochtend toe en meet in de avond.
E55: ="Is nitriet dan minder dan 0.05 mg/ltr mag er avonds weer "&Data!B4&" gram salmiak toegevoegd worden." -> Is nitriet dan minder dan 0.05 mg/ltr mag er avonds weer 0,72 gram salmiak toegevoegd worden.
E56: ="In de ochtend van dag 19 weer "&Data!B4&" gram salmiak toevoegen. Meet wel ook nitriet, komt deze hoger dan 1 mg/liter dan geen salmiak toevoegen, pas verder gaan als deze minder is dan 0.05 mg/liter" -> In de ochtend van dag 19 weer 0,72 gram salmiak toevoegen. Meet wel ook nitriet, komt deze hoger dan 1 mg/liter dan geen salmiak toevoegen, pas verder gaan als deze minder is dan 0.05 mg/liter
A57: 19 | E57: ="Voeg "&Data!B4&" gram salmiak in de ochtend toe en meet in de avond." -> Voeg 0,72 gram salmiak in de ochtend toe en meet in de avond.
E58: ="Is nitriet dan minder dan 0.05 mg/ltr mag er avonds weer "&Data!B4&" gram salmiak toegevoegd worden." -> Is nitriet dan minder dan 0.05 mg/ltr mag er avonds weer 0,72 gram salmiak toegevoegd worden.
E59: ="In de ochtend van dag 20 weer "&Data!B4&" gram salmiak toevoegen. Meet wel ook nitriet, komt deze hoger dan 1 mg/liter dan geen salmiak toevoegen, pas verder gaan als deze minder is dan 0.05 mg/liter" -> In de ochtend van dag 20 weer 0,72 gram salmiak toevoegen. Meet wel ook nitriet, komt deze hoger dan 1 mg/liter dan geen salmiak toevoegen, pas verder gaan als deze minder is dan 0.05 mg/liter
A60: 20 | E60: ="Voeg "&Data!B4&" gram salmiak in de ochtend toe en meet in de avond." -> Voeg 0,72 gram salmiak in de ochtend toe en meet in de avond.
E61: ="Is nitriet dan minder dan 0.05 mg/ltr mag er avonds weer "&Data!B4&" gram salmiak toegevoegd worden." -> Is nitriet dan minder dan 0.05 mg/ltr mag er avonds weer 0,72 gram salmiak toegevoegd worden.
E62: ="In de ochtend van dag 21 weer "&Data!B4&" gram salmiak toevoegen. Meet wel ook nitriet, komt deze hoger dan 1 mg/liter dan geen salmiak toevoegen, pas verder gaan als deze minder is dan 0.05 mg/liter" -> In de ochtend van dag 21 weer 0,72 gram salmiak toevoegen. Meet wel ook nitriet, komt deze hoger dan 1 mg/liter dan geen salmiak toevoegen, pas verder gaan als deze minder is dan 0.05 mg/liter
A63: 21 | E63: ="Voeg "&Data!B4&" gram salmiak in de ochtend toe en meet in de avond." -> Voeg 0,72 gram salmiak in de ochtend toe en meet in de avond.
E64: ="Is nitriet dan minder dan 0.05 mg/ltr mag er avonds weer "&Data!B4&" gram salmiak toegevoegd worden." -> Is nitriet dan minder dan 0.05 mg/ltr mag er avonds weer 0,72 gram salmiak toegevoegd worden.
E65: ="In de ochtend van dag 22 weer "&Data!B4&" gram salmiak toevoegen. Meet wel ook nitriet, komt deze hoger dan 1 mg/liter dan geen salmiak toevoegen, pas verder gaan als deze minder is dan 0.05 mg/liter" -> In de ochtend van dag 22 weer 0,72 gram salmiak toevoegen. Meet wel ook nitriet, komt deze hoger dan 1 mg/liter dan geen salmiak toevoegen, pas verder gaan als deze minder is dan 0.05 mg/liter
E66: Maar geen salmiak in de ochtend toevoegen, alleen in de avond.
A67: 22 | E67: Meet ammonia en nitriet in de avond, beiden zullen nu 0 moeten zijn. Is dit niet het geval voeg nogmaals een flesje bacteriepreparaat toe en ga naar dag 12.
E68: Is wel alles 0 volgt er een waterwissel van 80% en kan er gestart worden met toevoegen van planten en vissen. Plantenbestand mag in één keer toegevoegd worden maar begin rustig met aantal verlichtingsuren.
E69: Vis bestand rustig opbouwen, doe niet meer dan ¼ van je gewenst bestand per 2 weken en pas 14 dagen na plaatsen van de planten, dit omdat de planten zich eerst nog moeten aanpassen.
A70: 23 | E70: Wil je grote vissen toevoegen? Zoals discus dan moet de biofilm zwaarder belast gaan worden.
E71: ="Voeg "&Data!B6&" gram salmiak in de ochtend toe en meet in de avond." -> Voeg 1 gram salmiak in de ochtend toe en meet in de avond.
E72: ="Is ammonia dan minder dan 0.5 mg/ltr mag er avonds weer "&Data!B6&" gram toegevoegd worden." -> Is ammonia dan minder dan 0.5 mg/ltr mag er avonds weer 1 gram toegevoegd worden.
E73: ="In de ochtend dag 25 weer "&Data!B6&" gram toevoegen." -> In de ochtend dag 25 weer 1 gram toevoegen.
A74: 24 | E74: ="Is nitriet gedaald tot 0.04 mg/liter herhaal dag 23 maar dan ipv "&Data!B6&" gram gebruik je "&Data!B7&" gram. Is nitriet hoger dan 0.04 mg/liter mag er geen salmiak toegevoegd worden." -> Is nitriet gedaald tot 0.04 mg/liter herhaal dag 23 maar dan ipv 1 gram gebruik je 1,41 gram. Is nitriet hoger dan 0.04 mg/liter mag er geen salmiak toegevoegd worden.
E75: Geen waterwissel doen, afwachten totdat nitriet daalt.
A76: 25 | E76: ="Is nitriet gedaald tot 0.04 mg/liter herhaal dag 23 maar dan ipv "&Data!B6&" gram gebruik je "&Data!B7&" gram. Is nitriet hoger dan 0.04 mg/liter mag er geen salmiak toegevoegd worden." -> Is nitriet gedaald tot 0.04 mg/liter herhaal dag 23 maar dan ipv 1 gram gebruik je 1,41 gram. Is nitriet hoger dan 0.04 mg/liter mag er geen salmiak toegevoegd worden.
E77: Geen waterwissel doen, afwachten totdat nitriet daalt.
A78: 26 | E78: ="Is nitriet gedaald tot 0.04 mg/liter herhaal dag 23 maar dan ipv "&Data!B6&" gram gebruik je "&Data!B7&" gram. Is nitriet hoger dan 0.04 mg/liter mag er geen salmiak toegevoegd worden." -> Is nitriet gedaald tot 0.04 mg/liter herhaal dag 23 maar dan ipv 1 gram gebruik je 1,41 gram. Is nitriet hoger dan 0.04 mg/liter mag er geen salmiak toegevoegd worden.
E79: Geen waterwissel doen, afwachten totdat nitriet daalt.
A80: 27 | E80: Rustdag wel ammonia en nitriet meten.
E81: Meet ook nitraat, bij groter dan 50 mg/liter voer dan waterwissel uit van 50%
A82: 28 | E82: ="Voeg in de ochtend "&Data!B7&" gram salmiak toe. Is nitriet avonds gedaald tot 00.4 mg/liter dan avonds weer "&Data!B7&" gram salmiak toevoegen." -> Voeg in de ochtend 1,41 gram salmiak toe. Is nitriet avonds gedaald tot 00.4 mg/liter dan avonds weer 1,41 gram salmiak toevoegen.
A83: 29 | E83: Rustdag wel ammonia en nitriet meten
A84: 30 | E84: ="Voeg in de ochtend "&Data!B7&" gram salmiak toe. Is nitriet avonds gedaald tot 00.4 mg/liter dan avonds weer "&Data!B7&" gram salmiak toevoegen." -> Voeg in de ochtend 1,41 gram salmiak toe. Is nitriet avonds gedaald tot 00.4 mg/liter dan avonds weer 1,41 gram salmiak toevoegen.
A85: 31 | E85: Alle waarden 0? Voer een waterwissel uit van 80%, het filter is klaar.
E86: De waarden nog niet op dag 31 op 0, ga dan naar dag 24 en doorloop nogmaals tot dag 31.
E87: ="Uiteindelijk kunnen de bacteriën dan "&Data!B7&" gram ammonium per dag verwerken. Dat staat ongeveer gelijk met "&Data!B9&" vissen van 15 cm." -> Uiteindelijk kunnen de bacteriën dan 1,41 gram ammonium per dag verwerken. Dat staat ongeveer gelijk met 10 vissen van 15 cm.

Sheet Data
A1: gram per 100 liter (startwaarde) | B1: 0.4
A2: inhoud | B2: 180
A4: startwaarde | B4: =ROUND((B1*B2/100),2) -> 0.72
A5: lage waarde | B5: =ROUND((B1*B2/233),2) -> 0.31
A6: hoge waarde | B6: =ROUND((B1*B2/72),2) -> 1
A7: super waarde | B7: =ROUND((B1*B2/51),2) -> 1.41
A9: aantal vissen | B9: =ROUND(((10*B2)/180),0) -> 10
